BEGIN:VCALENDAR
VERSION:2.0
PRODID:-//wp-events-plugin.com//7.2.3.1//EN
TZID:Europe/Berlin
X-WR-TIMEZONE:Europe/Berlin
BEGIN:VEVENT
UID:86@rc-mauritius.de
DTSTART;TZID=Europe/Berlin;VALUE=DATE:20260514
DTEND;TZID=Europe/Berlin;VALUE=DATE:20260531
DTSTAMP:20260421T153113Z
URL:https://rc-mauritius.de/veranstaltungen/reitabzeichen-und-pferdefuehre
 rschein-2/
SUMMARY:Reitabzeichen und Pferdeführerschein
DESCRIPTION:Du wolltest schon immer dein Reitabzeichen\, den Pferdeführers
 chein oder gar beides machen? Jetzt ist die Gelegenheit!\n\nWir bieten im 
 Mai 2026 einen Kurs zur Vorbereitung auf verschiedene Reitabzeichen (RA7\,
  RA6\, RA5\, RA4) sowie den Pferdeführerschein Umgang an.\n\nKurstermine:
 \n14.05.\, 16.05. und 17.05.2025\n\nPrüfungstermin: 30.05.2025\n\nIn dies
 em Kurs werden Theorie und Praxis gezielt vermittelt\, um die Anforderunge
 n der jeweiligen Prüfungen optimal zu erfüllen. Sandra Stahl begleitet e
 uch individuell auf eurem Weg zum Abzeichen.\n\nHier haben wir euch die je
 weiligen Inhalte &amp\; Anforderungen der Reitabzeichen verlinkt:&nbsp\;\n
 \nRA3\nRA4\nRA5\nRA6\nRA7\nRA8\nRA9\nRA10\nPferdeführerschein Umgang\nLon
 gierabzeichen\n\nAnmeldeschluss ist der 26.04.2026!
ATTACH;FMTTYPE=image/jpeg:https://rc-mauritius.de/wp-content/uploads/2025/
 02/Reitabzeichen-Event.jpg
CATEGORIES:Kurse mit Reiten,Turniere &amp; Reitveranstaltungen
LOCATION:RC Mauritius Vereinsgelände\, Kleeäcker\, Leinburg\, Bayern\, 91
 227\, Deutschland
X-APPLE-STRUCTURED-LOCATION;VALUE=URI;X-ADDRESS=Kleeäcker\, Leinburg\, Bay
 ern\, 91227\, Deutschland;X-APPLE-RADIUS=100;X-TITLE=RC Mauritius Vereinsg
 elände:geo:0,0
END:VEVENT
BEGIN:VTIMEZONE
TZID:Europe/Berlin
X-LIC-LOCATION:Europe/Berlin
BEGIN:DAYLIGHT
DTSTART:20260329T030000
TZOFFSETFROM:+0100
TZOFFSETTO:+0200
TZNAME:CEST
END:DAYLIGHT
END:VTIMEZONE
END:VCALENDAR