BEGIN:VCALENDAR
VERSION:2.0
PRODID:-//wp-events-plugin.com//7.2.3.1//EN
TZID:Europe/Berlin
X-WR-TIMEZONE:Europe/Berlin
BEGIN:VEVENT
UID:76@rc-mauritius.de
DTSTART;TZID=Europe/Berlin:20260920T103000
DTEND;TZID=Europe/Berlin:20260920T140000
DTSTAMP:20260104T200157Z
URL:https://rc-mauritius.de/veranstaltungen/mauritiusritt/
SUMMARY:49. Mauritiusritt
DESCRIPTION:Gemeinsam zum Moritzberg – Einladung zum festlichen Gottesdie
 nst am 20. September 2026!\n\nWir laden herzlich zum jährlichen Mauritius
 ritt ein\, einer langgehegten Tradition unseres Reitvereins. Am 20. Septem
 ber 2026 erwartet euch ein unvergesslicher Tag auf dem Moritzberg\, an dem
  wir nicht nur einen festlichen Gottesdienst mit Posaunenchor feiern\, son
 dern auch unsere geliebten Pferde segnen lassen.\n\nWann?\n\n 	10:30 Uhr: 
 Treffen am Vereinsheim\n 	10:35 Uhr: Abritt vom Vereinsheim\n 	11:00 Uhr: 
 Abritt vom Diepersdorfer Marktplatz\n 	12:30 Uhr: Gottesdienst am Moritzbe
 rg mit Posaunenchor\n\nWir freuen uns nicht nur auf viele festlich gekleid
 ete Reiter\, sondern auch auf Wanderer\, Spaziergänger\, Hobby Horser und
  alle Naturfreunde\, die diesen besonderen Tag mit uns verbringen möchten
 . Für euer leibliches Wohl ist bestens gesorgt.\n\nFür eure Anreise steh
 en ausreichend Hängerparkplätze am Vereinsgelände zur Verfügung. Bitte
  denkt daran\, Halfter und Strick mitzubringen.\n\nWichtiger Hinweis: Wäh
 rend des Gottesdienstes wird keine Essensausgabe stattfinden.\nBitte tragt
  euch kostenfrei hier auf der Website für den Ritt ein\, damit wir einen 
 Überblick über die Teilnehmerzahl haben.\n\nBitte beachtet\, dass bei sc
 hlechtem Wetter der Ritt auf den Moritzberg abgesagt wird\, und der Gottes
 dienst stattdessen auf dem Vereinsgelände stattfindet. Über eventuelle 
 Änderungen informieren wir hier auf der Website\, per Social Media und pe
 r E-Mail.\n\nWir freuen uns auf einen wunderbaren Tag in gemeinsamer Verbu
 ndenheit und Naturgenuss beim Mauritiusritt!
ATTACH;FMTTYPE=image/jpeg:https://rc-mauritius.de/wp-content/uploads/2025/
 11/Website-Banner-1.png
CATEGORIES:Kurse mit Reiten,Turniere &amp;
 Reitveranstaltungen,Versammlungen &amp; Feste
LOCATION:RC Mauritius Vereinsgelände\, Kleeäcker\, Leinburg\, Bayern\, 91
 227\, Deutschland
X-APPLE-STRUCTURED-LOCATION;VALUE=URI;X-ADDRESS=Kleeäcker\, Leinburg\, Bay
 ern\, 91227\, Deutschland;X-APPLE-RADIUS=100;X-TITLE=RC Mauritius Vereinsg
 elände:geo:0,0
END:VEVENT
BEGIN:VTIMEZONE
TZID:Europe/Berlin
X-LIC-LOCATION:Europe/Berlin
BEGIN:DAYLIGHT
DTSTART:20260329T030000
TZOFFSETFROM:+0100
TZOFFSETTO:+0200
TZNAME:CEST
END:DAYLIGHT
END:VTIMEZONE
END:VCALENDAR