BEGIN:VCALENDAR
VERSION:2.0
PRODID:-//wp-events-plugin.com//7.2.3.1//EN
TZID:Europe/Berlin
X-WR-TIMEZONE:Europe/Berlin
BEGIN:VEVENT
UID:80@rc-mauritius.de
DTSTART;TZID=Europe/Berlin:20260627T000000
DTEND;TZID=Europe/Berlin:20260627T000000
DTSTAMP:20260202T194524Z
URL:https://rc-mauritius.de/veranstaltungen/hobby-horsing-turnier/
SUMMARY:Hobby Horsing Turnier
DESCRIPTION:Infos und genaues Datum folgen.
ATTACH;FMTTYPE=image/jpeg:https://rc-mauritius.de/wp-content/uploads/2026/
 01/Website-Banner-6.png
CATEGORIES:Hobby Horsing
LOCATION:RC Mauritius Vereinsgelände\, Kleeäcker\, Leinburg\, Bayern\, 91
 227\, Deutschland
X-APPLE-STRUCTURED-LOCATION;VALUE=URI;X-ADDRESS=Kleeäcker\, Leinburg\, Bay
 ern\, 91227\, Deutschland;X-APPLE-RADIUS=100;X-TITLE=RC Mauritius Vereinsg
 elände:geo:0,0
END:VEVENT
BEGIN:VTIMEZONE
TZID:Europe/Berlin
X-LIC-LOCATION:Europe/Berlin
BEGIN:DAYLIGHT
DTSTART:20260329T030000
TZOFFSETFROM:+0100
TZOFFSETTO:+0200
TZNAME:CEST
END:DAYLIGHT
END:VTIMEZONE
END:VCALENDAR