BEGIN:VCALENDAR
VERSION:2.0
PRODID:-//wp-events-plugin.com//7.2.3.1//EN
TZID:Europe/Berlin
X-WR-TIMEZONE:Europe/Berlin
BEGIN:VEVENT
UID:45@rc-mauritius.de
DTSTART;TZID=Europe/Berlin:20240921T100000
DTEND;TZID=Europe/Berlin:20240921T120000
DTSTAMP:20240903T074328Z
URL:https://rc-mauritius.de/veranstaltungen/gelassenheits-und-trail-traini
 ng-2/
SUMMARY:Gelassenheits- und Trail Training
DESCRIPTION:Wir laden euch herzlich zu unserem freien Gelassenheits- und Tr
 ail-Training ein!&nbsp\;\nAb 10 Uhr bauen wir gemeinsam auf. Wenn ihr eige
 ne Hindernisse oder Elemente habt\, bringt sie gerne mit!&nbsp\;\n\nIm Ans
 chluss wird frei trainiert – es gibt keinen festen Trainer\, jeder train
 iert individuell. Natürlich unterstützen wir uns dabei gegenseitig.&nbsp
 \;\n\nDer gemeinsame Abbau startet ab 12:00 Uhr\, aber keine Sorge: Wer sp
 äter kommt\, kann auch nach 10 Uhr noch dazustoßen.\n\nWir freuen uns au
 f euch! Bitte meldet euch hier online an.\n\n&nbsp\;\n\n&nbsp\;
ATTACH;FMTTYPE=image/jpeg:https://rc-mauritius.de/wp-content/uploads/2024/
 09/DSC02018-scaled.jpg
CATEGORIES:Kurse mit Reiten,Kurse ohne Reiten
LOCATION:RC Mauritius Vereinsgelände\, Kleeäcker\, Leinburg\, Bayern\, 91
 227\, Deutschland
X-APPLE-STRUCTURED-LOCATION;VALUE=URI;X-ADDRESS=Kleeäcker\, Leinburg\, Bay
 ern\, 91227\, Deutschland;X-APPLE-RADIUS=100;X-TITLE=RC Mauritius Vereinsg
 elände:geo:0,0
END:VEVENT
BEGIN:VTIMEZONE
TZID:Europe/Berlin
X-LIC-LOCATION:Europe/Berlin
BEGIN:DAYLIGHT
DTSTART:20240331T030000
TZOFFSETFROM:+0100
TZOFFSETTO:+0200
TZNAME:CEST
END:DAYLIGHT
END:VTIMEZONE
END:VCALENDAR